Workbook

Sheet Stammdaten und Forderung
B2: Kalkulation der Entgelte für solitäre und
B3: angebundene Kurzzeitpflege und Vordruck der Schiedsstelle
A5: 1. Allgemeine Angaben der Einrichtung
C7: EINRICHTUNG | G7: TRÄGER
A8: 1. | B8: Name
A9: 2. | B9: Straße
A10: 3. | B10: PLZ
A11: 4. | B11: Ort
A12: 5. | B12: Telefon/Telefax
A13: 6. | B13: Email
A14: 7. | B14: Ansprechpartner
A15: 8. | B15: IK.Nr. und Spitzenverband | C15: IK.Nr. | F15: Verband
A16: 9. | B16: Tarifrechtsregelung
A17: 10. | B17: konketer Tarif/AVR:
A18: 11. | B18: Einzelzimmer (Anteil an Gesamtplätzen in %)
A19: 12. | B19: Doppelzimmer (Anteil an Gesamtplätzen in %)
A20: 13. | B20: Baujahr
A21: 14. | B21: Jahr der letzten Generalsanierung
A23: 2. Angaben zum Pflegesatzverfahren nach § 85 SGB XI
A25: 15. | B25: Pflegesatzzeitraum
A26: 16. | B26: Aufforderung zur PSV am | F26: durch
A27: 17. | B27: Pflegesatzverhandlung am | F27: Ort:
A28: 18. | B28: Pflegesatzparteien gem. § 85 (2) SGB XI
A29: 19. | B29: Beteiligte
A30: 20. | B30: Schiedsstellenantrag am | F30: Antragsteller
A31: 21. | B31: Schiedsstellen Nummer | F31: Termin
A33: 3. Pflegesätze und Entgeltforderung der Einrichtung
E35: derzeitige Entgelte | G35: Forderung | I35: Differenz
B36: Pflegevergütung (ohne Ausbildungsumlage!)
A37: 22. | B37: Pflegegrad 1-5 | G37: =ROUND(Kostenträgerrechnung!L34,2) -> #DIV/0! | I37: =IF(G37=0,0,100/E37*(G37-E37)/100) -> #DIV/0!
A38: 23. | B38: Unterkunft und Verpflegung | E38: =E39+E40 -> 0 | G38: =G39+G40 -> #DIV/0! | I38: =IF(G38=0,0,100/E38*(G38-E38)/100) -> #DIV/0!
A39: 24. | B39: davon Unterkunft | G39: =ROUND(Kostenträgerrechnung!H34,2) -> #DIV/0! | I39: =IF(G39=0,0,100/E39*(G39-E39)/100) -> #DIV/0!
A40: 25. | B40: davon Verpflegung | G40: =ROUND(Kostenträgerrechnung!J34,2) -> #DIV/0! | I40: =IF(G40=0,0,100/E40*(G40-E40)/100) -> #DIV/0!
A42: 26. | B42: Budget und prozentuale Budgetsteigerung | E42: =(E37*Leistungsdaten!I20)+(E38*Leistungsdaten!$I$20) -> 0 | G42: =(G37*Leistungsdaten!I20)+(G38*Leistungsdaten!I20) -> #DIV/0! | I42: =IF(G42=0,0,100/E42*(G42-E42)/100) -> #DIV/0!
A45: 3. Pflegesätze und Entgeltforderung der Einrichtung (nur bei Übergang von pflegegradabhängigen Pflegesätzen)
E47: derzeitige Entgelte | G47: Forderung | I47: Differenz
B48: Pflegevergütung (ohne Ausbildungsumlage)
A49: 22. | B49: Pflegegrad 1 | G49: =ROUND(Kostenträgerrechnung!L34,2) -> #DIV/0! | I49: =IF(OR(E49=0,G49=0),0,G49/E49-1) -> #DIV/0!
A50: 23. | B50: Pflegegrad 2 | G50: =G49 -> #DIV/0! | I50: =IF(OR(E50=0,G50=0),0,G50/E50-1) -> #DIV/0!
A51: 24. | B51: Pflegegrad 3 | G51: =G49 -> #DIV/0! | I51: =IF(OR(E51=0,G51=0),0,G51/E51-1) -> #DIV/0!
...

Sheet Leistungsdaten
A1: Name der Einrichtung | C1: =+'Stammdaten und Forderung'!C8 -> 0
A3: 4. Leistungsdaten
A6: Allgemeine Angaben
A7: 1. | B7: Platzzahl laut Versorgungsvertrag
G9: Kalendertage | J9: 365
G10: Auslastung der Entgeltkalkulation | J10: 0.78
G11: Fachkraftquote
A13: Bewohnerstruktur nach SGB XI
E14: Bewohner | G14: Bewohner | I14: Berechnungstage
B15: Pflegegrad 1 | I15: =+G15*J$9*J$10 -> 0
B16: Pflegegrad 2 | I16: =+G16*J$9*J$10 -> 0
B17: Pflegegrad 3 | I17: =+G17*J$9*J$10 -> 0
B18: Pflegegrad 4 | I18: =+G18*J$9*J$10 -> 0
B19: Pflegegrad 5 | I19: =+G19*J$9*J$10 -> 0
A20: 2. | B20: Gesamt | E20: =E15 -> 0 | G20: =IF(SUM(G15:H19)<>0,SUM(G15:H19),D7) -> 0 | I20: =+G20*J$9*J$10 -> 0
A22: Weitere Angaben zur Gästestruktur
E23: Bewohner | F23: Anteil in %
A24: 3. | B24: Gerontopsychiatrisch veränderte Bewohner | F24: =IF(E$20=0,0,E24/E$20) -> 0 | G24: Durchschnittsalter in Jahren
A25: 4. | B25: Psychisch Kranke | F25: =IF(E$20=0,0,E25/E$20) -> 0 | G25: Anzahl aller Neuaufnahmen
A26: 5. | B26: Apalliker, MS-Kranke | F26: =IF(E$20=0,0,E26/E$20) -> 0
A27: 6. | B27: Rollstuhlfahrer | F27: =IF(E$20=0,0,E27/E$20) -> 0
A28: 7. | B28: Inkontinente | F28: =IF(E$20=0,0,E28/E$20) -> 0
A31: Personalbandbreiten nach dem Rahmenvertrag gemäß § 75 SGB XI
B33: Gemäß § 17 Abs. 2 Satz 2 des Rahmenvertrags | I33: von | J33: bis
A34: 8. | B34: Pflege und Betreung | G34: Alle Pflegegrade | I34: 2.2 | J34: 1.7
B36: Gemäß § 17 Abs. 2 Satz 3 u. 4 des Rahmenvertrags PDL (verantwortliche Pflegefachperson)
A37: 9. | G37: Alle Pflegegrade | I37: bis zu 1 zu 20
A38: 10. | B38: für Einrichtungen mit bis zu 20 Plätzen: | G38: Alle Pflegegrade | I38: bis zu 1,0 VK
B40: Gemäß § 17 Abs. 2 Satz 5 des Rahmenvertrags Hauswirtschaft und Technik
A41: 11. | G41: Alle Pflegegrade | I41: bis zu 1 zu 4,5
B43: Gemäß § 17 Abs. 2 Satz 5 des Rahmenvertrags Leitung und Verwaltung
A44: 12. | G44: Alle Pflegegrade | I44: bis zu 1 zu 15

Sheet Personal prospektiv
A1: Name der Einrichtung | E1: ='Stammdaten und Forderung'!C8 -> 0
A3: 5. Personalschlüssel und VK Berechnung Pflege-und Betreuungsdienst
E5: Maximal Schlüssel | F5: Maximum VK | G5: prospektiver Personal-schlüssel | H5: prospekt. VK | I5: Personal- schlüssel bislang | J5: VK-Differenz | K5: Differenz in €
A6: 1. | B6: Pflege Pflegegrad 1-5 | E6: 1.7 | F6: =+Leistungsdaten!G$20/E6 -> 0 | H6: =IF(G6=0,0,+Leistungsdaten!G$20/G6) -> 0 | J6: =IF(H6=0,0,H6-Leistungsdaten!G$20/'Personal prospektiv'!I6) -> 0
A7: 2. | B7: Verantwortliche Pflegefachkraft | E7: =IF(Leistungsdaten!G20<=20,Leistungsdaten!G20,20) -> 0 | F7: =IF(+Leistungsdaten!G$20/E7<1,1,+Leistungsdaten!G$20/E7) -> #DIV/0! | G7: =Leistungsdaten!G20/H7 -> #DIV/0! | J7: =IF(H7=0,0,H7-Leistungsdaten!G$20/'Personal prospektiv'!I7) -> 0
A8: 3. | B8: Summe | F8: =SUM(F6:F7) -> #DIV/0! | G8: =IF(Leistungsdaten!G20=0,0,Leistungsdaten!G20/H8) -> 0 | H8: =SUM(H6:H7) -> 0 | J8: =SUM(J6:J7) -> 0 | K8: =J8*G25 -> #DIV/0!
J9: in % | K9: =IF('Stammdaten und Forderung'!E42=0,+K8/'Stammdaten und Forderung'!E57,+K8/'Stammdaten und Forderung'!E42) -> #DIV/0!
A11: 6. Prospektive Personalstruktur und Personalkosten p.a.
B13: VK-Stellen und VK-Kosten p.a. | E13: Anzahl VK-Stellen | F13: PK-Basis | G13: Kosten je VK-Stelle prospektiv | H13: PK-Fort-schreibung | I13: Kosten p.a. | J13: % | K13: Davon Fremd-leistungen
A14: 4. | B14: Leitung | H14: =G14/F14-1 -> #DIV/0! | I14: =G14*E14 -> 0
A15: 5. | B15: Verwaltung | H15: =G15/F15-1 -> #DIV/0! | I15: =G15*E15 -> 0
A16: 6. | B16: Pflege und Betreuungsdienst | E16: =H8-E17 -> 0 | H16: =G16/F16-1 -> #DIV/0! | I16: =G16*E16 -> 0
A17: 7. | B17: Pflegeschüler | H17: =G17/F17-1 -> #DIV/0! | I17: =G17*E17 -> 0
A18: 8. | B18: Speiseversorgung | H18: =G18/F18-1 -> #DIV/0! | I18: =G18*E18 -> 0
A19: 9. | B19: Übriger Wirtschaftsdienst | H19: =G19/F19-1 -> #DIV/0! | I19: =G19*E19 -> 0
A20: 10. | B20: Personalnebenkosten (falls getrennt ausgewiesen) | E20: Anteil in % | G20: =I20/SUM(I14:J19) -> #DIV/0!
A21: 11. | B21: Personalkosten p.a. insgesamt | I21: =SUM(I14:J20) -> 0
B23: Summen und Personalschlüssel | E23: Summen VK-Stellen | F23: Schlüssel 1 zu | G23: Kosten je VK incl PNK | I23: PS bislang | J23: VK-Differenz | K23: Differenz in €
A24: 12. | B24: Leitung und Verwaltung | E24: =E14+E15 -> 0 | F24: =Leistungsdaten!G$20/E24 -> #DIV/0! | G24: =+((I14+I15)/(+E14+E15))*(1+G20) -> #DIV/0! | J24: =IF(E24=0,0,(E24-Leistungsdaten!G$20/'Personal prospektiv'!I24)) -> 0 | K24: =J24*G24 -> #DIV/0!
A25: 13. | B25: Pflege-und Betreuungsdienst | E25: =E16+E17 -> 0 | F25: =Leistungsdaten!G$20/E25 -> #DIV/0! | G25: =+((I16+I17)/(E17+E16))*(1+G20) -> #DIV/0!
A26: 14. | B26: Hauswirtschaft und Technik | E26: =E18+E19 -> 0 | F26: =Leistungsdaten!G$20/E26 -> #DIV/0! | G26: =+((I18+I19)/(E18+E19))*(1+G20) -> #DIV/0! | J26: =IF(E26=0,0,(E26-Leistungsdaten!G$20/'Personal prospektiv'!I26)) -> 0 | K26: =J26*G26 -> #DIV/0!
A27: 15. | B27: Gesamt: | E27: =SUM(E14:E19) -> 0 | F27: =Leistungsdaten!G$20/E27 -> #DIV/0! | G27: =I21/E27 -> #DIV/0! | J27: =+J26+J24+J8 -> 0 | K27: =+K26+K24+K8 -> #DIV/0!
J28: in % | K28: =IF('Stammdaten und Forderung'!E42=0,+K27/'Stammdaten und Forderung'!E57,+K27/'Stammdaten und Forderung'!E42) -> #DIV/0!

Sheet Kostenträgerrechnung
A1: Name der Einrichtung | D1: =+'Stammdaten und Forderung'!C8 -> 0 | G1: Überblick über die Leistungsdaten im Pflegesatzzeitraum
L2: Summen
J3: Bewohner | L3: =Leistungsdaten!G20 -> 0
A4: 7. Kostenträgerrechnung | J4: Berechnungstage | L4: =Leistungsdaten!I20 -> 0
D7: Gesamt | E7: Gesamt- | F7: Nettokosten je BT
D8: nettokosten | E8: nettokosten | G8: U | H8: U | I8: V | J8: V | K8: Pflege gesamt
D9: p.a. | E9: je BT | F9: U + V % | G9: % | H9: Euro | I9: % | J9: Euro | K9: % | L9: Euro
A10: 1. | B10: Personalkosten
A11: 1.1. | B11: 60-64 | C11: Leitung und Verwaltung | D11: ='Personal prospektiv'!E24*'Personal prospektiv'!G24 -> #DIV/0! | E11: =D11/$L$4 -> #DIV/0! | F11: 0.5 | G11: 0.5 | H11: =E11*G11 -> #DIV/0! | I11: 0 | J11: =I11*E11 -> #DIV/0! | K11: 0.5 | L11: =K11*E11 -> #DIV/0!
A12: 1.2. | B12: 60-64 | C12: Pflege- und Betreuungsdienst incl. Azubis | D12: ='Personal prospektiv'!E25*'Personal prospektiv'!G25 -> #DIV/0! | E12: =D12/$L$4 -> #DIV/0! | F12: 0 | G12: 0 | H12: =G12*E12 -> #DIV/0! | I12: 0 | J12: =I12*E12 -> #DIV/0! | K12: 1 | L12: =K12*E12 -> #DIV/0!
A13: 1.3. | B13: 60-64 | C13: Speiseversorgung | D13: ='Personal prospektiv'!I18*(1+'Personal prospektiv'!G20) -> #DIV/0! | E13: =D13/$L$4 -> #DIV/0! | F13: 1 | G13: 0 | H13: =G13*E13 -> #DIV/0! | I13: 1 | J13: =I13*E13 -> #DIV/0! | K13: 0 | L13: =K13*E13 -> #DIV/0!
A14: 1.4. | B14: 60-64 | C14: übriger Wirtschaftsdienst | D14: ='Personal prospektiv'!I19*(1+'Personal prospektiv'!G20) -> #DIV/0! | E14: =D14/$L$4 -> #DIV/0! | F14: 0.5 | G14: 0.5 | H14: =G14*E14 -> #DIV/0! | I14: 0 | J14: =I14*E14 -> #DIV/0! | K14: 0.5 | L14: =K14*E14 -> #DIV/0!
A15: 1.5. | E15: =D15/$L$4 -> #DIV/0! | F15: 0.5 | H15: =G15*E15 -> #DIV/0! | J15: =I15*E15 -> #DIV/0! | K15: 0.5 | L15: =K15*E15 -> #DIV/0!
C16: Summe Personalkosten | D16: =SUM(D11:D15) -> #DIV/0! | E16: =SUM(E11:E15) -> #DIV/0! | H16: =SUM(H11:H15) -> #DIV/0! | J16: =SUM(J11:J15) -> #DIV/0! | L16: =SUM(L11:L15) -> #DIV/0!
A17: 2. | B17: Sachkosten
A18: 2.1. | C18: Lebensmittel | E18: =D18/$L$4 -> #DIV/0! | F18: 1 | G18: 0 | H18: =G18*E18 -> #DIV/0! | I18: 1 | J18: =I18*E18 -> #DIV/0! | K18: 0 | L18: =K18*E18 -> #DIV/0!
A19: 2.2. | C19: Wasser, Energie, Brennstoffe | E19: =D19/$L$4 -> #DIV/0! | F19: 0.5 | G19: 0.5 | H19: =G19*E19 -> #DIV/0! | I19: 0 | J19: =I19*E19 -> #DIV/0! | K19: 0.5 | L19: =K19*E19 -> #DIV/0!
A20: 2.3. | C20: Wirtschaft-/Verwaltungsbedarf | E20: =D20/$L$4 -> #DIV/0! | F20: 0.5 | G20: 0.5 | H20: =G20*E20 -> #DIV/0! | I20: 0 | J20: =I20*E20 -> #DIV/0! | K20: 0.5 | L20: =K20*E20 -> #DIV/0!
A21: 2.4. | C21: Fremdleistung Verwaltung | E21: =D21/$L$4 -> #DIV/0! | F21: 0.5 | G21: 0.5 | H21: =G21*E21 -> #DIV/0! | I21: 0 | J21: =I21*E21 -> #DIV/0! | K21: 0.5 | L21: =K21*E21 -> #DIV/0!
A22: 2.5. | C22: Fremdleistung Speiseversorgung | E22: =D22/$L$4 -> #DIV/0! | F22: 1 | G22: 0 | H22: =G22*E22 -> #DIV/0! | I22: 1 | J22: =I22*E22 -> #DIV/0! | K22: 0 | L22: =K22*E22 -> #DIV/0!
A23: 2.6. | C23: Fremdleistung übr. Wirtschaftsd. | E23: =D23/$L$4 -> #DIV/0! | F23: 0.5 | G23: 0.5 | H23: =G23*E23 -> #DIV/0! | I23: 0 | J23: =I23*E23 -> #DIV/0! | K23: 0.5 | L23: =K23*E23 -> #DIV/0!
A24: 2.7 | C24: Fremdleistung Pflege | E24: =D24/$L$4 -> #DIV/0! | F24: 0 | G24: 0 | H24: =G24*E24 -> #DIV/0! | I24: 0 | J24: =I24*E24 -> #DIV/0! | K24: 1 | L24: =K24*E24 -> #DIV/0!
A25: 2.8 | C25: Verbrauchsgüter für Pflege | E25: =D25/$L$4 -> #DIV/0! | F25: 0 | G25: 0 | H25: =G25*E25 -> #DIV/0! | I25: 0 | J25: =I25*E25 -> #DIV/0! | K25: 1 | L25: =K25*E25 -> #DIV/0!
A26: 2.9 | C26: Abgaben, Steuern, Versicherungen | E26: =D26/$L$4 -> #DIV/0! | F26: 0.5 | G26: 0.5 | H26: =G26*E26 -> #DIV/0! | I26: 0 | J26: =I26*E26 -> #DIV/0! | K26: 0.5 | L26: =K26*E26 -> #DIV/0!
A27: 2.10 | C27: Abfallentsorgung | E27: =D27/$L$4 -> #DIV/0! | F27: 0.5 | G27: 0.5 | H27: =G27*E27 -> #DIV/0! | I27: 0 | J27: =I27*E27 -> #DIV/0! | K27: 0.5 | L27: =K27*E27 -> #DIV/0!
A28: 2.11 | C28: Ehrenamtliche Unterstützung (§ 82 b SGB XI) | E28: =D28/$L$4 -> #DIV/0! | F28: 1 | G28: 1 | H28: =G28*E28 -> #DIV/0! | I28: 0 | J28: =I28*E28 -> #DIV/0! | K28: 0 | L28: =K28*E28 -> #DIV/0!
A29: 2.12 | C29: Wartung | E29: =D29/$L$4 -> #DIV/0! | F29: 0.5 | G29: 0.5 | H29: =G29*E29 -> #DIV/0! | I29: 0 | J29: =I29*E29 -> #DIV/0! | K29: 0.5 | L29: =K29*E29 -> #DIV/0!
A30: 2.13 | C30: Sonstige Aufwendungen | E30: =D30/$L$4 -> #DIV/0! | F30: 0.5 | G30: 0.5 | H30: =G30*E30 -> #DIV/0! | I30: 0 | J30: =I30*E30 -> #DIV/0! | K30: 0.5 | L30: =K30*E30 -> #DIV/0!
C31: Summe Sachkosten | D31: =SUM(D18:D30) -> 0 | E31: =SUM(E18:E30) -> #DIV/0! | H31: =SUM(H18:H30) -> #DIV/0! | J31: =SUM(J18:J30) -> #DIV/0! | L31: =SUM(L18:L30) -> #DIV/0!
B32: Gesamtnettokosten | D32: =SUM(D16+D31) -> #DIV/0! | E32: =SUM(E16+E31) -> #DIV/0! | H32: =SUM(H16+H31) -> #DIV/0! | J32: =J16+J31 -> #DIV/0! | L32: =L16+L31 -> #DIV/0!
B34: Angemessene Vergütung des Unternehmerrisikos | E34: =E32*D34+E32 -> #DIV/0! | H34: =H32*D34+H32 -> #DIV/0! | J34: =J32*D34+J32 -> #DIV/0! | L34: =L32*D34+L32 -> #DIV/0!
D35: =+D32*(1+D34) -> #DIV/0!
B36: Ist - Sachkosten
A39: 3.1 | C39: Personalkostenanteil | D39: =+D16/(D32) -> #DIV/0!
A40: 3.2 | C40: Sachkostenanteil | D40: =+D31/(D32) -> #DIV/0!
F42: Umsatzverprobung | K42: PG 1-5
F43: Umsatz Pflegesätze | K43: =L34*L4 -> #DIV/0!
F44: Umsatz Unterkunft und Verpflegung | K44: =($H$34+$J$34)*L4 -> #DIV/0!
F45: Gesamt | K45: =SUM(K43:K44) -> #DIV/0!
