Workbook
Name _db: #REF!
Name _db: #REF!
Name _hide: #REF!
Name _hide: #REF!
Name d_filter: #REF!
Name d_filter: #REF!
Name d_filterJahr: #REF!
Name d_filterJahr: #REF!
Name dfjgbdfjk: #REF!
Name dfjgbdfjk: #REF!
Name Monat_bis: #REF!
Name Monat_bis: #REF!
Name Sonderpersonalschlüssel: #REF!
Name Sonderpersonalschlüssel: #REF!
Name sv: #REF!
Name sv: #REF!

Sheet Stammdaten und Forderung
A2: Kalkulation der Pflegesätze und Entgelte für Unterkunft und Verpflegung
A3: nach dem 8. Kapitel SGB XI und dem Rahmenvertrag nach § 75 SGB XI
A6: 1. Allgemeine Angaben der Einrichtung
C8: EINRICHTUNG | G8: TRÄGER
A9: 1. | B9: Name
A10: 2. | B10: Straße
A11: 3. | B11: PLZ
A12: 4. | B12: Ort
A13: 5. | B13: Telefon/Telefax
A14: 6. | B14: Email
A15: 7. | B15: Ansprechpartner
A16: 8. | B16: IK.Nr. und Spitzenverband | C16: IK.Nr. | F16: Verband
A17: 9. | B17: Tarifrechtsregelung
A18: 10. | B18: konketer Tarif/AVR:
A19: 11. | B19: Einzelzimmer (Anteil an Gesamtplätzen in %)
A20: 12. | B20: Doppelzimmer (Anteil an Gesamtplätzen in %)
A21: 13. | B21: Baujahr
A22: 14. | B22: Jahr der letzten Generalsanierung
A24: 2. Angaben zum Pflegesatzverfahren nach § 85 SGB XI
A26: 15. | B26: Pflegesatzzeitraum
A27: 16. | B27: Aufforderung zur PSV am | F27: durch
A28: 17. | B28: Pflegesatzverhandlung am | F28: Ort:
A29: 18. | B29: Pflegesatzparteien gem. § 85 (2) SGB XI
A30: 19. | B30: Beteiligte
A31: 20. | B31: Schiedsstellenantrag am | F31: Antragsteller
A32: 21. | B32: Schiedsstellen Nummer | F32: Termin
A34: 3. Pflegesätze und Entgeltforderung der Einrichtung
E36: derzeitige Entgelte vollstationäre Pflege | G36: Forderung eingestreute Kurzzeitpflege | I36: Forderung Kurzzeitpflege fix/flex | K36: Forderung vollstationäre Pflege incl. EEE | M36: Differenz
B37: Pflegevergütung (ohne Ausbildungsumlage!)
A38: 22. | B38: Pflegegrad 1 | G38: =IF(OR(Leistungsdaten!D9="",Leistungsdaten!D9=0,Leistungsdaten!D8<>0),0,ROUND((Kostenträgerrechnung!M34),2)) -> 0 | I38: ='Fix Flex'!E29 -> 0 | K38: =ROUND(Kostenträgerrechnung!M49,2) -> #DIV/0! | M38: =IF(K38=0,0,100/E38*(K38-E38)/100) -> #DIV/0!
A39: 23. | B39: Pflegegrad 2 | G39: =IF(OR(Leistungsdaten!D9="",Leistungsdaten!D9=0,Leistungsdaten!D8<>0),0,ROUND((Kostenträgerrechnung!N34),2)) -> 0 | K39: =ROUND(Kostenträgerrechnung!N45,2) -> #DIV/0! | M39: =IF(K39=0,0,100/E39*(K39-E39)/100) -> #DIV/0!
A40: 24. | B40: Pflegegrad 3 | G40: =IF(OR(Leistungsdaten!D9="",Leistungsdaten!D9=0,Leistungsdaten!D8<>0),0,ROUND((Kostenträgerrechnung!O34),2)) -> 0 | K40: =ROUND(Kostenträgerrechnung!O45,2) -> #DIV/0! | M40: =IF(K40=0,0,100/E40*(K40-E40)/100) -> #DIV/0!
A41: 25. | B41: Pflegegrad 4 | G41: =IF(OR(Leistungsdaten!D9="",Leistungsdaten!D9=0,Leistungsdaten!D8<>0),0,ROUND((Kostenträgerrechnung!P34),2)) -> 0 | K41: =ROUND(Kostenträgerrechnung!P45,2) -> #DIV/0! | M41: =IF(K41=0,0,100/E41*(K41-E41)/100) -> #DIV/0!
A42: 26. | B42: Pflegegrad 5 | G42: =IF(OR(Leistungsdaten!D9="",Leistungsdaten!D9=0,Leistungsdaten!D8<>0),0,ROUND((Kostenträgerrechnung!Q34),2)) -> 0 | K42: =ROUND(Kostenträgerrechnung!Q45,2) -> #DIV/0! | M42: =IF(K42=0,0,100/E42*(K42-E42)/100) -> #DIV/0!
A43: 27. | B43: Unterkunft und Verpflegung | E43: =E44+E45 -> 0 | G43: =G44+G45 -> 0 | I43: =I44+I45 -> 0 | K43: =K44+K45 -> #DIV/0! | M43: =IF(K43=0,0,100/E43*(K43-E43)/100) -> #DIV/0!
A44: 28. | B44: davon Unterkunft | G44: =IF(OR(Leistungsdaten!D9="",Leistungsdaten!D9=0,Leistungsdaten!D8<>0),0,ROUND((Kostenträgerrechnung!H34),2)) -> 0 | I44: ='Fix Flex'!C29 -> 0 | K44: =ROUND(Kostenträgerrechnung!H34,2) -> #DIV/0! | M44: =IF(K44=0,0,100/E44*(K44-E44)/100) -> #DIV/0!
A45: 29. | B45: davon Verpflegung | G45: =IF(OR(Leistungsdaten!D9="",Leistungsdaten!D9=0,Leistungsdaten!D8<>0),0,ROUND((Kostenträgerrechnung!J34),2)) -> 0 | I45: ='Fix Flex'!D29 -> 0 | K45: =ROUND(Kostenträgerrechnung!J34,2) -> #DIV/0! | M45: =IF(K45=0,0,100/E45*(K45-E45)/100) -> #DIV/0!
A46: 30. | B46: Budget und prozentuale Budgesteigerung | E46: =(E38*Leistungsdaten!$I$14)+(E39*Leistungsdaten!$I$15)+(E40*Leistungsdaten!$I$16)+(E41*Leistungsdaten!$I$17)+(E42*Leistungsdaten!$I$18)+(E43*Leistungsdaten!$I$19) -> 0 | K46: =(K38*Leistungsdaten!$I$14)+(K39*Leistungsdaten!$I$15)+(K40*Leistungsdaten!$I$16)+(K41*Leistungsdaten!$I$17)+(K42*Leistungsdaten!$I$18)+((Kostenträgerrechnung!J34+Kostenträgerrechnung!H34)*Leistungsdaten!$I$19) -> #DIV/0! | M46: =IF(K46=0,0,100/E46*(K46-E46)/100) -> #DIV/0!
A47: 31. | B47: Einrichtungsindividueller Eigenanteil tgl. | K47: =ROUND((Kostenträgerrechnung!N42)/30.42,2) -> #DIV/0! | M47: =IF(K47=0,0,100/E47*(K47-E47)/100) -> #DIV/0!
A48: 32. | B48: Einrichtungsindividueller Eigenanteil mtl. | K48: =+K47*30.42 -> #DIV/0! | M48: =IF(K48=0,0,100/E48*(K48-E48)/100) -> #DIV/0!
...

Sheet Leistungsdaten
A1: Name der Einrichtung | C1: =+'Stammdaten und Forderung'!C9 -> 0
A3: 4. Leistungsdaten
A5: Allgemeine Angaben
A6: 1. | B6: Platzzahl laut Versorgungsvertrag
B7: Kurzzeitpflegeplätze:
A8: 2. | B8: davon fix (ganzjährig vorgehalten)
A9: 3. | B9: davon flex (bzw. eingestreut) | G9: Kalendertage | J9: 365
G10: Auslastung der Entgeltkalkulation | J10: 0.965
A12: Bewohnerstruktur nach SGB XI | D12: Stand: | E12: aktuell | G12: Bewohnerstruktur Entgeltkalkulation hochgerechnet auf Platzzahl laut Versorgungsvertrag
E13: Bewohner | F13: Anteil in % | G13: Bewohner | H13: Anteil in % | I13: Berechnungstage
A14: 4. | B14: Pflegegrad 1 | F14: =IF(E$19=0,0,E14/E$19) -> 0 | H14: =IF(G$19=0,0,G14/G$19) -> 0 | I14: =+G14*J$9*J$10 -> 0
A15: 5. | B15: Pflegegrad 2 | F15: =IF(E$19=0,0,E15/E$19) -> 0 | H15: =IF(G$19=0,0,G15/G$19) -> 0 | I15: =+G15*J$9*J$10 -> 0
A16: 6. | B16: Pflegegrad 3 | F16: =IF(E$19=0,0,E16/E$19) -> 0 | H16: =IF(G$19=0,0,G16/G$19) -> 0 | I16: =+G16*J$9*J$10 -> 0
A17: 7. | B17: Pflegegrad 4 | F17: =IF(E$19=0,0,E17/E$19) -> 0 | H17: =IF(G$19=0,0,G17/G$19) -> 0 | I17: =+G17*J$9*J$10 -> 0
A18: 8. | B18: Pflegegrad 5 | F18: =IF(E$19=0,0,E18/E$19) -> 0 | H18: =IF(G$19=0,0,G18/G$19) -> 0 | I18: =+G18*J$9*J$10 -> 0
A19: 9. | B19: Gesamt | E19: =SUM(E14:E18) -> 0 | F19: =IF(E$19=0,0,E19/E$19) -> 0 | G19: =SUM(G14:G18) -> 0 | H19: =IF(G$19=0,0,G19/G$19) -> 0 | I19: =+G19*J$9*J$10 -> 0
A20: 9. | B20: Pflegekennzahl | E20: =((F14*$C$14)+(F15*$C$15)+(F16*$C$16)+(F17*$C$17)+(F18*$C$18))*100 -> 0
A22: Weitere Angaben zur Bewohnerstruktur
E23: Bewohner | F23: Anteil in %
A24: 10. | B24: Gerontopsychiatrisch veränderte Bewohner | F24: =IF(E$19=0,0,E24/E$19) -> 0 | G24: Durchschnittsalter in Jahren
A25: 11. | B25: Psychisch Kranke | F25: =IF(E$19=0,0,E25/E$19) -> 0 | G25: Anzahl aller Neuaufnahmen
A26: 12. | B26: Apalliker, MS-Kranke | F26: =IF(E$19=0,0,E26/E$19) -> 0
A27: 13. | B27: Rollstuhlfahrer | F27: =IF(E$19=0,0,E27/E$19) -> 0
A28: 14. | B28: Inkontinente | F28: =IF(E$19=0,0,E28/E$19) -> 0
A31: Personalbandbreiten nach dem Rahmenvertrag gemäß § 75 SGB XI bzw. § 113c Abs. 1 SGB XI davon unberührt sind Fälle nach § 113c Abs. 2 SGB XI bzw. §17 Abs. 5 Rahmenvertrag
B33: Personalbandbreiten Pflege und Betreuung Somatische Pflege | H33: Personalanhaltswerte gem. § 17 Abs. 2 RV
H34: von | I34: bis
A35: 15. | F35: Pflegegrad 1 | H35: 0.1637 | I35: 0.2206
A36: 16. | F36: Pflegegrad 2 | H36: 0.2101 | I36: 0.2914
A37: 17. | F37: Pflegegrad 3 | H37: 0.3067 | I37: 0.4074
A38: 18. | F38: Pflegegrad 4 | H38: 0.3922 | I38: 0.5503
A39: 19. | F39: Pflegegrad 5 | H39: 0.431 | I39: 0.6702
H41: Personalanhaltswerte Fachkräfte
H42: gem. § 17 Abs. 3 RV | J42: gem. 113c Abs.1 Nr. 3 SGB XI
H43: von | I43: bis | J43: bis
A44: 20. | F44: Pflegegrad 1 | H44: 0.0819 | I44: 0.1144 | J44: 0.077
A45: 21. | F45: Pflegegrad 2 | H45: 0.1051 | I45: 0.1471 | J45: 0.1037
A46: 22. | F46: Pflegegrad 3 | H46: 0.1534 | I46: 0.2075 | J46: 0.1551
A47: 23. | F47: Pflegegrad 4 | H47: 0.1961 | I47: 0.2718 | J47: 0.2463
A48: 24. | F48: Pflegegrad 5 | H48: 0.2155 | I48: 0.2994 | J48: 0.3842
...

Sheet Personal prospektiv
A1: Name der Einrichtung | E1: ='Stammdaten und Forderung'!C9 -> 0
P2: Ausblenden | Q2: Ausblenden | R2: Ausblenden
A4: 5. Personalanhaltswerte und VK Berechnung Pflege-und Betreuungsdienst
C6: Personalbandbreiten | F6: Gesamtpersonal | H6: Fachkraftanteil am Gesamtpersonal | J6: nachrichtlich: Hilfskraftanteil am Gesamtpersonal | L6: prospekt. VK gem. prospekt. Belegung | M6: VK-Differenz | N6: Differenz in €
C7: Maximum Gesamt VK/ PG gem. LRV | D7: Maximum Fachkraft VK/ PG | F7: bislang vereinbarte VK/ PG | G7: prospektive VK/ PG | H7: bislang vereinbarte VK/ PG | I7: prospektive VK/ PG | J7: bislang VK/ PG | K7: prospektive VK/ PG | P7: Zurechnung Sonderpersonalschlüssel Schiedsspruch RV 12/2015
D8: gem. LRV | E8: gem. §113c Abs.1 Nr.3 SGB XI | P8: Bewohner | Q8: VK Pflege/QM
A9: 1. | B9: Pflegegrad 1 | C9: 0.2206 | D9: 0.1144 | E9: 0.077 | J9: =F9-H9 -> 0 | K9: =G9-I9 -> 0 | L9: =Leistungsdaten!G14*G9 -> 0 | M9: =IF(L9=0,"",L9-(Leistungsdaten!G14*F9)) | P9: =Leistungsdaten!G14 -> 0 | Q9: =P9*(L$18+L$19)/P$14 -> #DIV/0! | R9: =L9+Q9 -> #DIV/0!
A10: 2. | B10: Pflegegrad 2 | C10: 0.2914 | D10: 0.1471 | E10: 0.1037 | J10: =F10-H10 -> 0 | K10: =G10-I10 -> 0 | L10: =Leistungsdaten!G15*G10 -> 0 | M10: =IF(L10=0,"",L10-(Leistungsdaten!G15*F10)) | P10: =Leistungsdaten!G15 -> 0 | Q10: =P10*(L$18+L$19)/P$14 -> #DIV/0! | R10: =L10+Q10 -> #DIV/0!
A11: 3. | B11: Pflegegrad 3 | C11: 0.4074 | D11: 0.2075 | E11: 0.1551 | J11: =F11-H11 -> 0 | K11: =G11-I11 -> 0 | L11: =Leistungsdaten!G16*G11 -> 0 | M11: =IF(L11=0,"",L11-(Leistungsdaten!G16*F11)) | P11: =Leistungsdaten!G16 -> 0 | Q11: =P11*(L$18+L$19)/P$14 -> #DIV/0! | R11: =L11+Q11 -> #DIV/0!
A12: 4. | B12: Pflegegrad 4 | C12: 0.5503 | D12: 0.2718 | E12: 0.2463 | J12: =F12-H12 -> 0 | K12: =G12-I12 -> 0 | L12: =Leistungsdaten!G17*G12 -> 0 | M12: =IF(L12=0,"",L12-(Leistungsdaten!G17*F12)) | P12: =Leistungsdaten!G17 -> 0 | Q12: =P12*(L$18+L$19)/P$14 -> #DIV/0! | R12: =L12+Q12 -> #DIV/0!
A13: 5. | B13: Pflegegrad 5 | C13: 0.6702 | D13: 0.2994 | E13: 0.3842 | J13: =F13-H13 -> 0 | K13: =G13-I13 -> 0 | L13: =Leistungsdaten!G18*G13 -> 0 | M13: =IF(L13=0,"",L13-(Leistungsdaten!G18*F13)) | P13: =Leistungsdaten!G18 -> 0 | Q13: =P13*(L$18+L$19)/P$14 -> #DIV/0! | R13: =L13+Q13 -> #DIV/0!
A14: 6. | B14: Summe | L14: =SUM(L9:L13) -> 0 | P14: =SUM(P9:P13) -> 0 | Q14: =SUM(Q9:Q13) -> #DIV/0! | R14: =SUM(R9:R13) -> #DIV/0!
P15: =IF(H15>2.5,"Achtung! Max 2,5 VK","")
F17: maximaler Schlüssel gem. LRV | H17: maximale VK | I17: prospektiver Personal-schlüssel | J17: bislang vereinbarte Personalschlüssel | L17: prospekt. VK
A18: 7. | B18: Verantwortliche Pflegefachkraft (§ 17 Abs. 7 LRV) | H18: 1 | I18: =+Leistungsdaten!G19/'Personal prospektiv'!L18 -> #DIV/0! | M18: =IF(L18=0,0,L18-Leistungsdaten!G19/J18) -> 0
A19: 8. | B19: Sonderpersonalschlüssel „Qualität“ (§ 17 Abs. 8 LRV) | F19: =IF(Leistungsdaten!G19=0,40,IF(Leistungsdaten!G19<=40,Leistungsdaten!G19/1,IF(Leistungsdaten!G19/40<=2.5,40,Leistungsdaten!G19/2.5))) -> 40 | H19: =+Leistungsdaten!G19/'Personal prospektiv'!F19 -> 0 | L19: =IF(I19=0,0,IF(+Leistungsdaten!G19/'Personal prospektiv'!I19>2.5,2.5,+Leistungsdaten!G19/'Personal prospektiv'!I19)) -> 0 | M19: =IF(L19=0,0,L19-Leistungsdaten!G19/J19) -> 0
L20: =SUM(L18:L19) -> 0
A22: 9. | B22: Summe | L22: =L14+L20 -> 0 | M22: =SUM(M9:M13,M18:M19) -> 0 | N22: =M22*J42 -> #DIV/0!
M23: in % | N23: =+N22/'Stammdaten und Forderung'!E46 -> #DIV/0!
A25: 6. Prospektive Personalstruktur und Personalkosten p.a.
B27: VK-Stellen und VK-Kosten p.a. | F27: Anzahl VK-Stellen | G27: PK-Basis | H27: Kosten je VK-Stelle prospektiv | I27: PK-Fortschreibung | J27: Kosten p.a. | L27: davon VK Fremd-leistungen
A28: 10. | B28: Leitung | I28: =H28/G28-1 -> #DIV/0! | J28: =H28*F28 -> 0
A29: 11. | B29: Verwaltung | I29: =H29/G29-1 -> #DIV/0! | J29: =H29*F29 -> 0
A30: 12. | B30: Pflege und Betreuungsdienst Fachkraftpersonal | F30: =Leistungsdaten!G14*I9+Leistungsdaten!G15*I10+Leistungsdaten!G16*I11+Leistungsdaten!G17*I12+Leistungsdaten!G18*I13-(F34*E34) -> 0 | I30: =H30/G30-1 -> #DIV/0! | J30: =H30*F30 -> 0
A31: 13. | B31: Pflege und Betreuungsdienst Hilfskraftpersonal | F31: =L14-(Leistungsdaten!G14*I9+Leistungsdaten!G15*I10+Leistungsdaten!G16*I11+Leistungsdaten!G17*I12+Leistungsdaten!G18*I13)-(F34*(1-E34)) -> 0 | I31: =H31/G31-1 -> #DIV/0! | J31: =H31*F31 -> 0
A32: 14. | B32: Verantwortliche Pflegefachkraft | F32: =L18 -> 0 | I32: =H32/G32-1 -> #DIV/0! | J32: =H32*F32 -> 0
A33: 15. | B33: Sonderpersonalschlüssel „Qualität“ | F33: =L19 -> 0 | I33: =H33/G33-1 -> #DIV/0! | J33: =H33*F33 -> 0
A34: 16. | B34: Pflegeschüler | D34: davon Fachkräften zurechenbar | I34: =H34/G34-1 -> #DIV/0! | J34: =H34*F34 -> 0
A35: 17. | B35: Speiseversorgung | I35: =H35/G35-1 -> #DIV/0! | J35: =H35*F35 -> 0
A36: 18. | B36: Übriger Wirtschaftsdienst | I36: =H36/G36-1 -> #DIV/0! | J36: =H36*F36 -> 0
A37: 19. | B37: Personalnebenkosten (falls getrennt ausgewiesen) | F37: =J37/SUM(J28:J36) -> #DIV/0!
A38: 20. | B38: Personalkosten p.a. insgesamt | J38: =SUM(J28:J37) -> 0
B40: Summen und Personalschlüssel | F40: Summen VK-Stellen | H40: Schlüssel 1 zu | J40: Kosten je VK inkl. PNK | L40: PS bislang | M40: VK-Differenz | N40: Differenz in €
A41: 21. | B41: Leitung und Verwaltung | F41: =F28+F29 -> 0 | H41: =Leistungsdaten!G19/F41 -> #DIV/0! | J41: =+((J28+J29)/(F28+F29))*(1+F37) -> #DIV/0! | M41: =IF(H41=0,0,F41-Leistungsdaten!G19/L41) -> #DIV/0! | N41: =M41*J41 -> #DIV/0!
A42: 22. | B42: Pflege-und Betreuungsdienst | F42: =F30+F31+F32+F33+F34 -> 0 | H42: =Leistungsdaten!G19/F42 -> #DIV/0! | J42: =+((J30+J31+J32+J33+J34)/(F30+F31+F32+F33+F34))*(1+F37) -> #DIV/0!
A43: 23. | B43: Hauswirtschaft und Technik | F43: =F35+F36 -> 0 | H43: =Leistungsdaten!G19/F43 -> #DIV/0! | J43: =+((J35+J36)/(F35+F36))*(1+F37) -> #DIV/0! | M43: =IF(H43=0,0,F43-Leistungsdaten!G19/L43) -> #DIV/0! | N43: =M43*J43 -> #DIV/0!
A44: 24. | B44: Gesamt: | F44: =SUM(F28:F36) -> 0 | H44: =Leistungsdaten!G19/F44 -> #DIV/0! | J44: =J38/F44 -> #DIV/0! | M44: =+M43+M41+M22 -> #DIV/0! | N44: =+N43+N41+N22 -> #DIV/0!
M45: in % | N45: =+N44/'Stammdaten und Forderung'!E46 -> #DIV/0!

Sheet Kostenträgerrechnung
A1: Name der Einrichtung | D1: =+'Stammdaten und Forderung'!C9 -> 0 | J1: Überblick über die Leistungsdaten im Pflegesatzzeitraum
J2: Pflegerade | L2: Summen | M2: PG 1 | N2: PG 2 | O2: PG 3 | P2: PG 4 | Q2: PG 5
J3: Bewohner | L3: =SUM(M3:Q3) -> 0 | M3: =+Leistungsdaten!G14 -> 0 | N3: =+Leistungsdaten!G15 -> 0 | O3: =+Leistungsdaten!G16 -> 0 | P3: =+Leistungsdaten!G17 -> 0 | Q3: =+Leistungsdaten!G18 -> 0
A4: 7. Kostenträgerrechnung | J4: Berechnungstage | L4: =Leistungsdaten!I19 -> 0 | M4: =+Leistungsdaten!I14 -> 0 | N4: =+Leistungsdaten!I15 -> 0 | O4: =+Leistungsdaten!I16 -> 0 | P4: =+Leistungsdaten!I17 -> 0 | Q4: =+Leistungsdaten!I18 -> 0
D7: Gesamt | E7: Gesamt- | F7: Nettokosten je BT
D8: nettokosten | E8: nettokosten | G8: U | H8: U | I8: V | J8: V | K8: Pflege gesamt | M8: PG 1 | N8: PG 2 | O8: PG 3 | P8: PG 4 | Q8: PG 5
D9: p.a. | E9: je BT | F9: U + V % | G9: % | H9: Euro | I9: % | J9: Euro | K9: % | L9: Euro | M9: Euro | N9: Euro | O9: Euro | P9: Euro | Q9: Euro
A10: 1. | B10: Personalkosten
A11: 1.1. | B11: 60-64 | C11: Leitung und Verwaltung | D11: ='Personal prospektiv'!F41*'Personal prospektiv'!J41 -> #DIV/0! | E11: =D11/$L$4 -> #DIV/0! | F11: 0.5 | G11: 0.5 | H11: =E11*G11 -> #DIV/0! | I11: 0 | J11: =I11*E11 -> #DIV/0! | K11: 0.5 | L11: =K11*E11 -> #DIV/0! | M11: =+IF(M3=0,0,$L11) -> 0 | N11: =L11 -> #DIV/0! | O11: =+$L11 -> #DIV/0! | P11: =+$L11 -> #DIV/0! | Q11: =+$L11 -> #DIV/0!
A12: 1.2. | B12: 60-64 | C12: Pflege- und Betreuungsdienst incl. Azubis | D12: ='Personal prospektiv'!F42*'Personal prospektiv'!J42 -> #DIV/0! | E12: =D12/$L$4 -> #DIV/0! | F12: 0 | G12: 0 | H12: =G12*E12 -> #DIV/0! | I12: 0 | J12: =I12*E12 -> #DIV/0! | K12: 1 | L12: =K12*E12 -> #DIV/0! | M12: =IF(Leistungsdaten!G14=0,0,'Personal prospektiv'!R9*'Personal prospektiv'!J42/Kostenträgerrechnung!M4) -> 0 | N12: =+'Personal prospektiv'!R10*'Personal prospektiv'!J42/Kostenträgerrechnung!N4 -> #DIV/0! | O12: =+'Personal prospektiv'!R11*'Personal prospektiv'!J42/Kostenträgerrechnung!O4 -> #DIV/0! | P12: =+'Personal prospektiv'!R12*'Personal prospektiv'!J42/Kostenträgerrechnung!P4 -> #DIV/0! | Q12: =+'Personal prospektiv'!R13*'Personal prospektiv'!J42/Kostenträgerrechnung!Q4 -> #DIV/0!
A13: 1.3. | B13: 60-64 | C13: Speiseversorgung | D13: ='Personal prospektiv'!J35+('Personal prospektiv'!J35*'Personal prospektiv'!F37) -> #DIV/0! | E13: =D13/$L$4 -> #DIV/0! | F13: 1 | G13: 0 | H13: =G13*E13 -> #DIV/0! | I13: 1 | J13: =I13*E13 -> #DIV/0! | K13: 0 | L13: =K13*E13 -> #DIV/0! | M13: =L13 -> #DIV/0! | N13: =L13 -> #DIV/0! | O13: =+$L13 -> #DIV/0! | P13: =+$L13 -> #DIV/0! | Q13: =+$L13 -> #DIV/0!
A14: 1.4. | B14: 60-64 | C14: ürbiger Wirtschaftsdienst | D14: ='Personal prospektiv'!J36+('Personal prospektiv'!J36*'Personal prospektiv'!F37) -> #DIV/0! | E14: =D14/$L$4 -> #DIV/0! | F14: 0.5 | G14: 0.5 | H14: =G14*E14 -> #DIV/0! | I14: 0 | J14: =I14*E14 -> #DIV/0! | K14: 0.5 | L14: =K14*E14 -> #DIV/0! | M14: =+IF(M3=0,0,$L14) -> 0 | N14: =L14 -> #DIV/0! | O14: =+$L14 -> #DIV/0! | P14: =+$L14 -> #DIV/0! | Q14: =+$L14 -> #DIV/0!
A15: 1.5. | E15: =D15/$L$4 -> #DIV/0! | F15: 0.5 | H15: =G15*E15 -> #DIV/0! | J15: =I15*E15 -> #DIV/0! | K15: 0.5 | L15: =K15*E15 -> #DIV/0! | M15: =+$L15 -> #DIV/0! | N15: =+$L15 -> #DIV/0! | O15: =+$L15 -> #DIV/0! | P15: =+$L15 -> #DIV/0! | Q15: =+$L15 -> #DIV/0!
C16: Summe Personalkosten | D16: =SUM(D11:D15) -> #DIV/0! | E16: =SUM(E11:E15) -> #DIV/0! | H16: =SUM(H11:H15) -> #DIV/0! | J16: =SUM(J11:J15) -> #DIV/0! | L16: =SUM(L11:L15) -> #DIV/0! | M16: =SUM(M11:M15) -> #DIV/0! | N16: =SUM(N11:N15) -> #DIV/0! | O16: =SUM(O11:O15) -> #DIV/0! | P16: =SUM(P11:P15) -> #DIV/0! | Q16: =SUM(Q11:Q15) -> #DIV/0!
A17: 2. | B17: Sachkosten
A18: 2.1. | C18: Lebensmittel | E18: =D18/$L$4 -> #DIV/0! | F18: 1 | G18: 0 | H18: =G18*E18 -> #DIV/0! | I18: 1 | J18: =I18*E18 -> #DIV/0! | K18: 0 | L18: =K18*E18 -> #DIV/0! | M18: =+$L18 -> #DIV/0! | N18: =+$L18 -> #DIV/0! | O18: =+$L18 -> #DIV/0! | P18: =+$L18 -> #DIV/0! | Q18: =+$L18 -> #DIV/0!
A19: 2.2. | C19: Wasser, Energie, Brennstoffe | E19: =D19/$L$4 -> #DIV/0! | F19: 0.5 | G19: 0.5 | H19: =G19*E19 -> #DIV/0! | I19: 0 | J19: =I19*E19 -> #DIV/0! | K19: 0.5 | L19: =K19*E19 -> #DIV/0! | M19: =+IF(M3=0,0,$L19) -> 0 | N19: =+$L19 -> #DIV/0! | O19: =+$L19 -> #DIV/0! | P19: =+$L19 -> #DIV/0! | Q19: =+$L19 -> #DIV/0!
A20: 2.3. | C20: Wirtschaft-/Verwaltungsbedarf | E20: =D20/$L$4 -> #DIV/0! | F20: 0.5 | G20: 0.5 | H20: =G20*E20 -> #DIV/0! | I20: 0 | J20: =I20*E20 -> #DIV/0! | K20: 0.5 | L20: =K20*E20 -> #DIV/0! | M20: =+IF(M3=0,0,$L20) -> 0 | N20: =L20 -> #DIV/0! | O20: =+$L20 -> #DIV/0! | P20: =+$L20 -> #DIV/0! | Q20: =+$L20 -> #DIV/0!
A21: 2.4. | C21: Fremdleistung Verwaltung | E21: =D21/$L$4 -> #DIV/0! | F21: 0.5 | G21: 0.5 | H21: =G21*E21 -> #DIV/0! | I21: 0 | J21: =I21*E21 -> #DIV/0! | K21: 0.5 | L21: =K21*E21 -> #DIV/0! | M21: =+IF(M3=0,0,$L21) -> 0 | N21: =L21 -> #DIV/0! | O21: =+$L21 -> #DIV/0! | P21: =+$L21 -> #DIV/0! | Q21: =+$L21 -> #DIV/0!
A22: 2.5. | C22: Fremdleistung Speiseversorgung | E22: =D22/$L$4 -> #DIV/0! | F22: 1 | G22: 0 | H22: =G22*E22 -> #DIV/0! | I22: 1 | J22: =I22*E22 -> #DIV/0! | K22: 0 | L22: =K22*E22 -> #DIV/0! | M22: =+$L22 -> #DIV/0! | N22: =+$L22 -> #DIV/0! | O22: =+$L22 -> #DIV/0! | P22: =+$L22 -> #DIV/0! | Q22: =+$L22 -> #DIV/0!
A23: 2.6. | C23: Fremdleistung übr. Wirtschaftsd. | E23: =D23/$L$4 -> #DIV/0! | F23: 0.5 | G23: 0.5 | H23: =G23*E23 -> #DIV/0! | I23: 0 | J23: =I23*E23 -> #DIV/0! | K23: 0.5 | L23: =K23*E23 -> #DIV/0! | M23: =+IF(M3=0,0,$L23) -> 0 | N23: =+$L23 -> #DIV/0! | O23: =+$L23 -> #DIV/0! | P23: =+$L23 -> #DIV/0! | Q23: =+$L23 -> #DIV/0!
A24: 2.7 | C24: Fremdleistung Pflege | E24: =D24/$L$4 -> #DIV/0! | F24: 0 | G24: 0 | H24: =G24*E24 -> #DIV/0! | I24: 0 | J24: =I24*E24 -> #DIV/0! | K24: 1 | L24: =K24*E24 -> #DIV/0! | M24: =+IF(M3=0,0,$L24) -> 0 | N24: =+$L24 -> #DIV/0! | O24: =+$L24 -> #DIV/0! | P24: =+$L24 -> #DIV/0! | Q24: =+$L24 -> #DIV/0!
A25: 2.8 | C25: Verbrauchsgüter für Pflege | E25: =D25/$L$4 -> #DIV/0! | F25: 0 | G25: 0 | H25: =G25*E25 -> #DIV/0! | I25: 0 | J25: =I25*E25 -> #DIV/0! | K25: 1 | L25: =K25*E25 -> #DIV/0! | M25: =+IF(M3=0,0,$L25) -> 0 | N25: =+$L25 -> #DIV/0! | O25: =+$L25 -> #DIV/0! | P25: =+$L25 -> #DIV/0! | Q25: =+$L25 -> #DIV/0!
A26: 2.9 | C26: Abgaben, Steuern, Versicherungen | E26: =D26/$L$4 -> #DIV/0! | F26: 0.5 | G26: 0.5 | H26: =G26*E26 -> #DIV/0! | I26: 0 | J26: =I26*E26 -> #DIV/0! | K26: 0.5 | L26: =K26*E26 -> #DIV/0! | M26: =+IF(M3=0,0,$L26) -> 0 | N26: =+$L26 -> #DIV/0! | O26: =+$L26 -> #DIV/0! | P26: =+$L26 -> #DIV/0! | Q26: =+$L26 -> #DIV/0!
A27: 2.10 | C27: Abfallentsorgung | E27: =D27/$L$4 -> #DIV/0! | F27: 0.5 | G27: 0.5 | H27: =G27*E27 -> #DIV/0! | I27: 0 | J27: =I27*E27 -> #DIV/0! | K27: 0.5 | L27: =K27*E27 -> #DIV/0! | M27: =+IF(M3=0,0,$L27) -> 0 | N27: =+$L27 -> #DIV/0! | O27: =+$L27 -> #DIV/0! | P27: =+$L27 -> #DIV/0! | Q27: =+$L27 -> #DIV/0!
A28: 2.11 | C28: Ehrenamtliche Unterstützung (§ 82 b SGB XI) | E28: =D28/$L$4 -> #DIV/0! | F28: 1 | G28: 1 | H28: =G28*E28 -> #DIV/0! | I28: 0 | J28: =I28*E28 -> #DIV/0! | K28: 0 | L28: =K28*E28 -> #DIV/0! | M28: =+$L28 -> #DIV/0! | N28: =+$L28 -> #DIV/0! | O28: =+$L28 -> #DIV/0! | P28: =+$L28 -> #DIV/0! | Q28: =+$L28 -> #DIV/0!
A29: 2.12 | C29: Wartung | E29: =D29/$L$4 -> #DIV/0! | F29: 0.5 | G29: 0.5 | H29: =G29*E29 -> #DIV/0! | I29: 0 | J29: =I29*E29 -> #DIV/0! | K29: 0.5 | L29: =K29*E29 -> #DIV/0! | M29: =+IF(M3=0,0,$L29) -> 0 | N29: =+$L29 -> #DIV/0! | O29: =+$L29 -> #DIV/0! | P29: =+$L29 -> #DIV/0! | Q29: =+$L29 -> #DIV/0!
A30: 2.13 | C30: Sonstige Aufwendungen | E30: =D30/$L$4 -> #DIV/0! | F30: 0.5 | G30: 0.5 | H30: =G30*E30 -> #DIV/0! | I30: 0 | J30: =I30*E30 -> #DIV/0! | K30: 0.5 | L30: =K30*E30 -> #DIV/0! | M30: =+IF(M3=0,0,$L30) -> 0 | N30: =+$L30 -> #DIV/0! | O30: =+$L30 -> #DIV/0! | P30: =+$L30 -> #DIV/0! | Q30: =+$L30 -> #DIV/0!
C31: Summe Sachkosten | D31: =SUM(D18:D30) -> 0 | E31: =SUM(E18:E30) -> #DIV/0! | H31: =SUM(H18:H30) -> #DIV/0! | J31: =SUM(J18:J30) -> #DIV/0! | L31: =SUM(L18:L30) -> #DIV/0! | M31: =SUM(M18:M30) -> #DIV/0! | N31: =SUM(N18:N30) -> #DIV/0! | O31: =SUM(O18:O30) -> #DIV/0! | P31: =SUM(P18:P30) -> #DIV/0! | Q31: =SUM(Q18:Q30) -> #DIV/0!
B32: Gesamtnettokosten | D32: =SUM(D16+D31) -> #DIV/0! | E32: =SUM(E16+E31) -> #DIV/0! | H32: =SUM(H16+H31) -> #DIV/0! | J32: =J16+J31 -> #DIV/0! | L32: =L16+L31 -> #DIV/0! | M32: =M16+M31 -> #DIV/0! | N32: =N16+N31 -> #DIV/0! | O32: =O16+O31 -> #DIV/0! | P32: =P16+P31 -> #DIV/0! | Q32: =Q16+Q31 -> #DIV/0!
B34: Angemessener Unternehmensgewinn | E34: =E32*D34+E32 -> #DIV/0! | H34: =H32*D34+H32 -> #DIV/0! | J34: =J32*D34+J32 -> #DIV/0! | L34: =L32*D34+L32 -> #DIV/0! | M34: =M32*D34+M32 -> #DIV/0! | N34: =N32*D34+N32 -> #DIV/0! | O34: =O32*D34+O32 -> #DIV/0! | P34: =P32*D34+P32 -> #DIV/0! | Q34: =Q32*D34+Q32 -> #DIV/0!
D35: =+D32*(1+D34) -> #DIV/0!
A37: 3.1 | C37: Personalkostenanteil | D37: =+D16/D32 -> #DIV/0! | I37: Pflegesätze nach Pflegegraden 2 bis 5
A38: 3.2 | C38: Sachkostenanteil | D38: =1-D37 -> #DIV/0! | M38: Summe PG 2 bis 5 | N38: PG 2 | O38: PG 3 | P38: PG 4 | Q38: PG 5
I39: Berücksichtigungsfähige Kosten lt. Kalk./ Monat | M39: =SUM(N39:Q39) -> #DIV/0! | N39: =N34*N3*30.42 -> #DIV/0! | O39: =O34*O3*30.42 -> #DIV/0! | P39: =P34*P3*30.42 -> #DIV/0! | Q39: =Q34*Q3*30.42 -> #DIV/0!
C40: Ist - Sachkosten (bei 96,5 % Auslastung) | I40: Leistungsbetrag Pflegekasse / Monat | M40: =SUM(N40:Q40) -> 0 | N40: =N3*N43 -> 0 | O40: =O3*O43 -> 0 | P40: =P3*P43 -> 0 | Q40: =Q3*Q43 -> 0
I41: Nicht gedeckter Anteil | M41: =M39-M40 -> #DIV/0!
I42: EEE pro Monat | M42: =$M$41/((N3+O3+P3+Q3)) -> #DIV/0! | N42: =$M$41/((N3+O3+P3+Q3)) -> #DIV/0! | O42: =$M$41/((N3+O3+P3+Q3)) -> #DIV/0! | P42: =$M$41/((N3+O3+P3+Q3)) -> #DIV/0! | Q42: =$M$41/((N3+O3+P3+Q3)) -> #DIV/0!
I43: Leistungsbetrag Pflegekasse/Monat | N43: 805 | O43: 1319 | P43: 1855 | Q43: 2096
I44: Summe | N44: =SUM(N42:N43) -> #DIV/0! | O44: =SUM(O42:O43) -> #DIV/0! | P44: =SUM(P42:P43) -> #DIV/0! | Q44: =SUM(Q42:Q43) -> #DIV/0!
...

Sheet Fix Flex
B3: Name der Einrichtung | D3: ='Stammdaten und Forderung'!C9 -> 0
B5: 8. Kurzzeitpflege fix/flex
B7: Kurzzeitpflegeplätze | F7: Plätze | G7: Berechnungstage / Belegungstage
B8: fix (ganzjährig vorgehalten) | C8: =Leistungsdaten!D8 -> 0 | E8: KZP lt. Versorgungsvertrag | F8: =IF(C8>0,SUM(C8:C9),0) -> 0 | G8: =F8*'Fix Flex'!C11*Leistungsdaten!J9 -> 0
B9: flex (bzw. eingestreut) | C9: =IF(C8>0,Leistungsdaten!D9,0) -> 0 | E9: tatsächlich Ø Belegung in der KZP | F9: =IFERROR(G9/365,0) -> 0
B11: kalk. Auslastung Kurzzeitpflege | C11: 0.85
C13: Max. VK | D13: Max. VK tatsächlicher Durchschnitt | E13: prospektive VK | F13: VK/Platz prospektiv
B14: Zusatzpersonal Kurzzeitpflege | C14: 0.1 | D14: =C14*F9 -> 0 | F14: =E14/F9 -> #DIV/0!
B17: VK-Stellen und VK-Kosten p.a. | C17: Anzahl VK-Stellen | D17: Kosten je VK-Stelle | E17: Kosten p.a. | F17: Kosten/ BT
B18: Personalkosten fix/ flex | C18: ='Fix Flex'!E14 -> 0 | D18: ='Personal prospektiv'!H30 -> 0 | E18: =C18*D18 -> 0
B19: Personalnebenkosten fix/flex (falls getrennt ausgewiesen) | C19: Anteil in Prozent | D19: =IFERROR('Personal prospektiv'!F37,0) -> 0 | E19: =E18*D19 -> 0
B20: Personalkosten fix/flex p.a. insgesamt | E20: =SUM(E18:E19) -> 0
B21: KZP Zusatzpersonal (inkl. anteil. Unternehmensgewinn) | D21: =Kostenträgerrechnung!D34 -> 0 | E21: =E20*(1+D21) -> 0 | F21: =IFERROR(E21/(G9*C11),0) -> 0
C24: Nettokosten je BT
C25: U | D25: V | E25: Pflege gesamt
C26: Euro | D26: Euro | E26: Euro
B27: Umrechnung Auslastung von 96,5% auf 85% | C27: =IF(F8>0,Kostenträgerrechnung!H34*Leistungsdaten!J10/C11,0) -> 0 | D27: =IF(F8>0,Kostenträgerrechnung!J34*Leistungsdaten!J10/C11,0) -> 0 | E27: =IF(F8>0,Kostenträgerrechnung!L34*Leistungsdaten!J10/C11,0) -> 0
B28: zuzüglich Zusatzpersonal Pflege | E28: =F21 -> 0
B29: Summe Pflegesätze: | C29: =ROUND(C27,2) -> 0 | D29: =ROUND(D27,2) -> 0 | E29: =ROUND(E28+E27,2) -> 0
